BEGIN:VCALENDAR
VERSION:2.0
PRODID:-//Clean Coasts - ECPv6.15.20//NONSGML v1.0//EN
CALSCALE:GREGORIAN
METHOD:PUBLISH
X-ORIGINAL-URL:https://cleancoasts.org
X-WR-CALDESC:Events for Clean Coasts
REFRESH-INTERVAL;VALUE=DURATION:PT1H
X-Robots-Tag:noindex
X-PUBLISHED-TTL:PT1H
BEGIN:VTIMEZONE
TZID:UTC
BEGIN:STANDARD
TZOFFSETFROM:+0000
TZOFFSETTO:+0000
TZNAME:UTC
DTSTART:20160101T000000
END:STANDARD
END:VTIMEZONE
BEGIN:VEVENT
DTSTART;TZID=UTC:20171022T110000
DTEND;TZID=UTC:20171022T130000
DTSTAMP:20260422T175638
CREATED:20171019T115751Z
LAST-MODIFIED:20171019T115751Z
UID:5035-1508670000-1508677200@cleancoasts.org
SUMMARY:Marram Grass Planting - Inch Beach\, Co. Kerry
DESCRIPTION:Clean Coasts Officer for Kerry\, Susan\, will be carrying out a marram grass planting workshop with local Scouts group at Inch Beach on Sunday\, 22nd October at 11 am. The planting efforts of the last few months are really starting to show and the grass is taking well in the area. This will be the last planting exercise until Spring.
URL:https://cleancoasts.org/event/marram-grass-planting-inch-beach-co-kerry/
LOCATION:Inch Beach\, Inch Beach\, Inch Beach\, Co. Kerry\, Ireland
CATEGORIES:Dune Conservation Events,Kerry Events,Workshops
ATTACH;FMTTYPE=image/jpeg:https://cleancoasts.org/wp-content/uploads/2015/04/marram-grass1.jpg
ORGANIZER;CN="Clean Coasts Officer Susan Vickers":MAILTO:svickers@eeu.antaisce.org
END:VEVENT
BEGIN:VEVENT
DTSTART;TZID=UTC:20171021T110000
DTEND;TZID=UTC:20171021T130000
DTSTAMP:20260422T175638
CREATED:20171108T151200Z
LAST-MODIFIED:20171108T151200Z
UID:5329-1508583600-1508590800@cleancoasts.org
SUMMARY:Beach Clean - Bull Island
DESCRIPTION:Clean Coasts Officer for Dublin\, Richard\, will be taking part in the community cleanup at Bull Island today from 11 am to 1 pm.
URL:https://cleancoasts.org/event/beach-clean-bull-island/
LOCATION:Bull Island
CATEGORIES:Beach Cleans,Clean-ups,Dune Conservation Events
ATTACH;FMTTYPE=image/jpeg:https://cleancoasts.org/wp-content/uploads/2015/02/Clean-coasts_rgb.jpg
ORGANIZER;CN="Clean Coasts Officer Richard Curtin":MAILTO:rcurtin@eeu.antaisce.org
END:VEVENT
BEGIN:VEVENT
DTSTART;TZID=UTC:20170708T140000
DTEND;TZID=UTC:20170708T200000
DTSTAMP:20260422T175638
CREATED:20170629T091438Z
LAST-MODIFIED:20170629T091757Z
UID:4663-1499522400-1499544000@cleancoasts.org
SUMMARY:Clean Coasts Presents 'Beach Rescue Project' - Strandhill\, Co. Sligo
DESCRIPTION:Clean Coasts and Barefoot Wines are delighted to bring you the ‘Beach Rescue Project’ on the 8th of July in Strandhill\, Co. Sligo.  \nThe event is part of Barefoot’s ‘World Beach Rescue Day’\, a campaign which has supported over 14\,000 volunteers since its launch 11 years ago\, in several countries including the US\, Mexico and Germany. \nThe Beach Resuce Project is being held in Ireland for the first time and it aims to create a fun and festive atmosphere whilst drawing attention to coastal issues such as marine litter and dune erosion. \nThe day’s activities are open to the public and include beach yoga\, surfing demos\, face-painting\, sand sculpting\, marram grass planting\, ‘Talks in the Park’\, and most importantly a Big Beach Clean. \nWe will also be throwing an after-party in The Strand Bar to thank everyone who takes part in the beach clean. The party will include a BBQ\, live music from soul singing sensation Buck Taylor and for those over 18\, a free glass of Barefoot wine to toast a job well done! \nThere will also be plenty of giveaways on the day\, including prizes for those who collect the most litter.
URL:https://cleancoasts.org/event/clean-coasts-presents-beach-rescue-project-strandhill-co-sligo/
LOCATION:Strandhill\, Strandhill\, Co. Sligo\, Ireland
CATEGORIES:Beach Cleans,Clean Coasts Events,Clean-ups,Dune Conservation Events,Sligo Events,Talks,Workshops
ATTACH;FMTTYPE=image/jpeg:https://cleancoasts.org/wp-content/uploads/2017/06/Beach-Rescue-Promo-Poster-v1.1-WEB.jpg
ORGANIZER;CN="Clean Coasts":MAILTO:cleancoasts@eeu.antaisce.org
END:VEVENT
BEGIN:VEVENT
DTSTART;VALUE=DATE:20170702
DTEND;VALUE=DATE:20170703
DTSTAMP:20260422T175638
CREATED:20170629T100235Z
LAST-MODIFIED:20170629T100235Z
UID:4697-1498953600-1499039999@cleancoasts.org
SUMMARY:Marram Grass Planting Workshop - Inch\, Co. Kerry
DESCRIPTION:Marram Grass\, Ammophila arenaria\, is the major dune building plant in Ireland. This sand trapping grass can not only help dune systems maintain their positions but reduce blowouts and consolidate areas of loose sands. This practical training workshop will develop skills around; when and how to transplant\, sources of supply\, correct technique and spacing considerations.  \nThis workshop will take place at Inch Beach on Sunday 2nd July from \nPlease bring: \n\nAppropriate clothing for the weather/practical session and sturdy boots.\nA spade/trowel.\nA large bucket
URL:https://cleancoasts.org/event/marram-grass-planting-workshop-inch-co-kerry/
LOCATION:Inch Beach\, Inch Beach\, Inch Beach\, Co. Kerry\, Ireland
CATEGORIES:Clean Coasts Events,Dune Conservation Events,Kerry Events,Workshops
ATTACH;FMTTYPE=image/jpeg:https://cleancoasts.org/wp-content/uploads/2015/04/marram-grass1.jpg
ORGANIZER;CN="Clean Coasts Officer Susan Vickers":MAILTO:svickers@eeu.antaisce.org
END:VEVENT
BEGIN:VEVENT
DTSTART;TZID=UTC:20170609T110000
DTEND;TZID=UTC:20170609T150000
DTSTAMP:20260422T175638
CREATED:20170603T144429Z
LAST-MODIFIED:20170603T144429Z
UID:4596-1497006000-1497020400@cleancoasts.org
SUMMARY:Marram Grass Planting – Donegal
DESCRIPTION:Together with our group Buncrana Tidy Towns and Donegal Co. Co. we will be running a practical marram grass planting workshop at Lisfannon beach in Donegal from 11am on Friday 9th June. It will give those attending a full understanding of how the process is done and also tackle dune erosion at the beach. Please bring a shovel\, bucket and packed lunch as well as suitable clothing for the weather.  \nFor more information\, contact Beckey-Finn at bfbritton@eeu.antaisce.org. \nSand dunes act as natural buffers to the forces of the ocean and worth protecting. They are our one of our natural coastal defence mechanisms and protect the land behind the dune area whether agricultural or housing areas. They are also an important habitat for coastal flora and fauna. As part of Clean Coasts Week we will have a stand alone day bringing attention to the importance of sand dune protection\, this will be evident on our social media along with several marram grass planting events happening around the country.
URL:https://cleancoasts.org/event/marram-grass-planting-donegal/
LOCATION:Lisfannon Beach\, Lisfannon\, Co. Donegal\, Ireland
CATEGORIES:Coca-Cola Clean Coasts Week,Donegal Events,Dune Conservation Events
ATTACH;FMTTYPE=image/jpeg:https://cleancoasts.org/wp-content/uploads/2015/04/marram-grass1.jpg
ORGANIZER;CN="Clean Coasts Officer Beckey-Finn Britton":MAILTO:bfbritton@eeu.antaisce.org
END:VEVENT
BEGIN:VEVENT
DTSTART;VALUE=DATE:20170609
DTEND;VALUE=DATE:20170610
DTSTAMP:20260422T175638
CREATED:20170603T144620Z
LAST-MODIFIED:20170603T144620Z
UID:4598-1496966400-1497052799@cleancoasts.org
SUMMARY:Marram Grass Planting – Sligo
DESCRIPTION:Together with our group\, Lissadell Clean Coasts\, we will be running a practical marram grass planting workshop at Lissadell beach in Sligo on Friday 9th June. It will give those attending a full understanding of how the process is done and also tackle dune erosion at the beach. Please bring a shovel\, bucket and packed lunch as well as suitable clothing for the weather.  \nFor more information\, contact Olivia at ojones@eeu.antaisce.org. \nSand dunes act as natural buffers to the forces of the ocean and worth protecting. They are our one of our natural coastal defence mechanisms and protect the land behind the dune area whether agricultural or housing areas. They are also an important habitat for coastal flora and fauna. As part of Clean Coasts Week we will have a stand alone day bringing attention to the importance of sand dune protection\, this will be evident on our social media along with several marram grass planting events happening around the country.
URL:https://cleancoasts.org/event/marram-grass-planting-sligo/
LOCATION:Lissadell\, Lissadell\, Lissadell\, Co. Sligo\, Ireland
CATEGORIES:Coca-Cola Clean Coasts Week,Dune Conservation Events,Sligo Events
ATTACH;FMTTYPE=image/jpeg:https://cleancoasts.org/wp-content/uploads/2015/04/marram-grass1.jpg
ORGANIZER;CN="Clean Coasts Officer Olivia Jones":MAILTO:ojones@eeu.antaisce.org
END:VEVENT
BEGIN:VEVENT
DTSTART;VALUE=DATE:20170608
DTEND;VALUE=DATE:20170609
DTSTAMP:20260422T175638
CREATED:20170603T144153Z
LAST-MODIFIED:20170603T144153Z
UID:4593-1496880000-1496966399@cleancoasts.org
SUMMARY:Marram Grass Planting – Kerry
DESCRIPTION:Together with one of our local Clean Coasts groups\, we will be running a practical marram grass planting workshop at Ballinskelligs beach in Kerry on Thursday 8th June as part of World Oceans Day. It will give those attending a full understanding of how the process is done and also tackle dune erosion at the beach.
URL:https://cleancoasts.org/event/marram-grass-planting-kerry/
LOCATION:Ballinskelligs\, Ballinskelligs\, Ballinskelligs\, Co. Kerry\, Ireland
CATEGORIES:Coca-Cola Clean Coasts Week,Dune Conservation Events,Kerry Events
ATTACH;FMTTYPE=image/jpeg:https://cleancoasts.org/wp-content/uploads/2015/04/marram-grass1.jpg
ORGANIZER;CN="Clean Coasts Officer Susan Vickers":MAILTO:svickers@eeu.antaisce.org
END:VEVENT
BEGIN:VEVENT
DTSTART;TZID=UTC:20170325T110000
DTEND;TZID=UTC:20170325T130000
DTSTAMP:20260422T175638
CREATED:20170322T103856Z
LAST-MODIFIED:20170322T103856Z
UID:4317-1490439600-1490446800@cleancoasts.org
SUMMARY:Marram Grass Planting - Strandhill\, Sligo
DESCRIPTION:There will be a marram grass planting training day this Saturday in Strandhill at 11 am (meet at the cannon). \nMarram grass planting is a great way to care from our coasts. With more and more marram being trampled in the sand dunes in recent years\, planting fresh marram grass is a great way to keep our coastline healthy. \nSee you there.
URL:https://cleancoasts.org/event/marram-grass-planting-strandhill-sligo/
LOCATION:Strandhill\, Strandhill\, Co. Sligo\, Ireland
CATEGORIES:Clean Coasts Events,Dune Conservation Events,Sligo Events
ATTACH;FMTTYPE=image/jpeg:https://cleancoasts.org/wp-content/uploads/2017/03/17426402_10155114420701532_2842036595687530701_n.jpg
ORGANIZER;CN="Clean Coasts Officer Olivia Jones":MAILTO:ojones@eeu.antaisce.org
END:VEVENT
BEGIN:VEVENT
DTSTART;TZID=UTC:20170324T120000
DTEND;TZID=UTC:20170324T140000
DTSTAMP:20260422T175638
CREATED:20170322T141935Z
LAST-MODIFIED:20170322T141935Z
UID:4330-1490356800-1490364000@cleancoasts.org
SUMMARY:Marram Grass Planting and Beach Clean - Maghery\, Co. Donegal
DESCRIPTION:Our Clean Coasts Group\, An Mhacháire Le Chéile Teo\, will be hosting a marram grass planting session and beach clean on Friday 24th March from 12pm. Clean Coasts Officer for Donegal\, Beckey-Finn\, will be attending and giving a short talk beforehand. \n 
URL:https://cleancoasts.org/event/marram-grass-planting-and-beach-clean-maghery-co-donegal/
LOCATION:Ionad An Mhachaire\, Maghery\, Dungloe\, Co. Donegal\, Ireland
CATEGORIES:Beach Cleans,Clean-ups,Donegal Events,Dune Conservation Events,Talks
ATTACH;FMTTYPE=image/jpeg:https://cleancoasts.org/wp-content/uploads/2017/03/17191785_771425156345253_8493072053108372874_o.jpg
ORGANIZER;CN="Clean Coasts Officer Beckey-Finn Britton":MAILTO:bfbritton@eeu.antaisce.org
END:VEVENT
BEGIN:VEVENT
DTSTART;TZID=UTC:20170224T100000
DTEND;TZID=UTC:20170224T143000
DTSTAMP:20260422T175638
CREATED:20170202T164439Z
LAST-MODIFIED:20170202T164439Z
UID:4166-1487930400-1487946600@cleancoasts.org
SUMMARY:Marram Grass Transplanting Course - Carrickfinn
DESCRIPTION:Donegal Co. Co. will be holding a marram grass planting course at dune areas badly affected by erosion at Carrickfinn beach in association with Clean Coasts. Clean Coasts Officer for Donegal\, Beckey-Finn will be on hand to guide and support those attending.  \nEveryone who is able for some hard work or interested in dune erosion and marram grass planting is welcome to take part. \nMore information: \nMarram Grass\, Ammophila arenaria\, is the major dune building plant in Ireland. This sand trapping grass can not only help dune systems maintain their positions but reduce blowouts and consolidate areas of loose sands. This practical training workshop will develop skills around; when and how to transplant\, sources of supply\, correct technique and spacing considerations. \nCourse Programme   \n10.00am               Arrival & registration \n10.15am               Tool talk & practical session \n12.00pm               Lunch \n12.30pm               Marram Grass transplanting \n2.30pm                 Overview\, evaluation & finish \n  \nWhat to bring  \n\nPacked lunch- warm & cold drinks. We will be having lunch outside.\nAppropriate clothing for the weather/practical session and sturdy boots.\nA spade/trowel.\nSecateurs/strong scissors.\n\n  \nGetting there  \nCarrickfinn\, Kincasslagh\, Letterkenny\, Co.Donegal
URL:https://cleancoasts.org/event/marram-grass-transplanting-course-carrickfinn/
LOCATION:Carrickfinn\, Co. Donegal\, Ireland
CATEGORIES:Donegal Events,Dune Conservation Events,Workshops
ATTACH;FMTTYPE=image/jpeg:https://cleancoasts.org/wp-content/uploads/2015/04/marram-grass1.jpg
ORGANIZER;CN="Clean Coasts Officer Beckey-Finn Britton":MAILTO:bfbritton@eeu.antaisce.org
END:VEVENT
END:VCALENDAR