BEGIN:VCALENDAR
VERSION:2.0
PRODID:-//Clean Coasts - ECPv6.15.20//NONSGML v1.0//EN
CALSCALE:GREGORIAN
METHOD:PUBLISH
X-WR-CALNAME:Clean Coasts
X-ORIGINAL-URL:https://cleancoasts.org
X-WR-CALDESC:Events for Clean Coasts
REFRESH-INTERVAL;VALUE=DURATION:PT1H
X-Robots-Tag:noindex
X-PUBLISHED-TTL:PT1H
BEGIN:VTIMEZONE
TZID:UTC
BEGIN:STANDARD
TZOFFSETFROM:+0000
TZOFFSETTO:+0000
TZNAME:UTC
DTSTART:20150101T000000
END:STANDARD
END:VTIMEZONE
BEGIN:VEVENT
DTSTART;VALUE=DATE:20171202
DTEND;VALUE=DATE:20171203
DTSTAMP:20260420T144155
CREATED:20171108T145501Z
LAST-MODIFIED:20171129T141229Z
UID:5309-1512172800-1512259199@cleancoasts.org
SUMMARY:Our Coasts Our Voices at Other Voices\, Co. Kerry
DESCRIPTION:As part of Other Voices event\, Clean Coasts programme shall host a family day at Ventry Community Centre\, which is 10 minutes drive from Dingle where Other Voices is located. \nThe day will be a marine environment education day with a mixture of stands and workshops throughout the day. \n Clean Coasts programme engages with community groups\, business and schools encouraging and facilitating beach clean and marine education. Currently\, we have over 600 Clean Coasts groups establish nationwide and run 3 national campaigns; #2minutebeachclean\, Beat the Microbead and Think Before You Flush. \nClean Coasts has invited several partners and community members to join in the delivering of the event\, these partners include BIM\, Recreate\, Explorers\, Marei and Dingle Aquarium. \n \nTitle – Our Coasts\, Our Voices\nThis title is suggested to link Clean Coasts and Other Voices – the idea of the event is to provide coastal education\, community and individual engagement and celebration of our coast on the backdrop of the Other Voices event which would be clear from the title.The script from Clean Coasts Logo would be used for ‘Our Coasts’ and the script from ‘Other Voices’ would be used for ‘Our Voices’  \nStand and Workshops\nStands:\n\nClean Coasts stand – which will inform on the Clean Coasts programme and provide information on marine litter.  This stand will have an identification game.\nThink Before You Flush campaign – which will give information on the Think Before You Flush campaign and run interactive experiments to engage people with the message of the campaign.\nSEAI schools workshop stand – which will provide information on Climate Change and run interactive experiments relating to energy\, energy consumption and climate change\nLove Your Coast Photography Winner Display – a display of winning images from South West Ireland\nClean Coasts Beach Display – #2minutebeachclean – Beach will be set up in order\, which will be used for photographs\, filming and some games can be played in this area as well.\nDingle Aquarium – Stand including displays of marine life\nExplorers – Stand is too be confirmed\nBIM – stand about fishing for litter project based in Dingle. BIM will also have some interactive displays and aims to have local fishermen help out at the stand.\nMarei – stand providing information on microplastics and solutions to single-use plastic.\n\nAttendees will be encouraged to wander around stalls as they will be given quiz/treasure hunt as they enter the hall and all those who complete treasure hunt will be entered into a draw for small prizes.  \nWorkshops:\n\n11.30 – 12.00: Art workshop with ReCreate\n11.30 – 12.00: Squid dissection with Dingle Oceanworld/MaraBeo\n12.15 – 12.45: Drumming workshop (with a difference!)\n13.00 – 13.30: Art workshop with ReCreate\n13.00 – 13.30: Squid dissection with Dingle Dingle Oceanworld/MaraBeo\n14.00 – 15.00: Underwater soundscape with Vincent Hyland\n15.00 – 16.00: Cnuasach Trá with Billy Mag Fhloinn (exploring the coastal environment through story\, song\, art and drama)
URL:https://cleancoasts.org/event/other-voices-co-kerry/
LOCATION:Ventry Community Centre\, Ventry\, Co. Kerry\, Ireland
CATEGORIES:Kerry Events,Other
ATTACH;FMTTYPE=image/jpeg:https://cleancoasts.org/wp-content/uploads/2017/11/OV-Taisce–ourcoast-a4.jpg
ORGANIZER;CN="Clean Coasts":MAILTO:cleancoasts@eeu.antaisce.org
END:VEVENT
BEGIN:VEVENT
DTSTART;TZID=UTC:20171111T093000
DTEND;TZID=UTC:20171111T160000
DTSTAMP:20260420T144155
CREATED:20171108T161239Z
LAST-MODIFIED:20171108T161304Z
UID:5354-1510392600-1510416000@cleancoasts.org
SUMMARY:Think Before You Flush at Transition Kerry Climate Event
DESCRIPTION:Clean Coasts will be attending the Transition Kerry Climate event today to talk about all things Think Before You Flush. You can view the press release here. 
URL:https://cleancoasts.org/event/think-before-you-flush-at-transition-kerry-climate-event/
LOCATION:Manor West Hotel\, Tralee\, Co. Kerry\, Ireland
CATEGORIES:Conference,Kerry Events
ATTACH;FMTTYPE=image/jpeg:https://cleancoasts.org/wp-content/uploads/2017/11/TK-Up-for-the-Challenge-Oct-17-iRegister-e1508367062235.jpg
END:VEVENT
BEGIN:VEVENT
DTSTART;TZID=UTC:20171022T110000
DTEND;TZID=UTC:20171022T130000
DTSTAMP:20260420T144155
CREATED:20171019T115751Z
LAST-MODIFIED:20171019T115751Z
UID:5035-1508670000-1508677200@cleancoasts.org
SUMMARY:Marram Grass Planting - Inch Beach\, Co. Kerry
DESCRIPTION:Clean Coasts Officer for Kerry\, Susan\, will be carrying out a marram grass planting workshop with local Scouts group at Inch Beach on Sunday\, 22nd October at 11 am. The planting efforts of the last few months are really starting to show and the grass is taking well in the area. This will be the last planting exercise until Spring.
URL:https://cleancoasts.org/event/marram-grass-planting-inch-beach-co-kerry/
LOCATION:Inch Beach\, Inch Beach\, Inch Beach\, Co. Kerry\, Ireland
CATEGORIES:Dune Conservation Events,Kerry Events,Workshops
ATTACH;FMTTYPE=image/jpeg:https://cleancoasts.org/wp-content/uploads/2015/04/marram-grass1.jpg
ORGANIZER;CN="Clean Coasts Officer Susan Vickers":MAILTO:svickers@eeu.antaisce.org
END:VEVENT
BEGIN:VEVENT
DTSTART;VALUE=DATE:20170915
DTEND;VALUE=DATE:20170918
DTSTAMP:20260420T144155
CREATED:20170907T155034Z
LAST-MODIFIED:20170907T171034Z
UID:4783-1505433600-1505692799@cleancoasts.org
SUMMARY:Big Beach Clean
DESCRIPTION:Clean Coasts Big Beach Clean weekend will take place on the 15th\, 16th and 17th of September 2017. We are delighted to team up with the International Ocean Conservancy again for the International Coastal Cleanup event. In 2016\, nearly 800\,000 volunteers in over 90 countries removed 8\,193 tonnes of marine litter from the world’s oceans. \nWe hope everyone will join the movement for litter free seas and be part of the world’s largest coastal cleanup event and marine litter survey. The event takes place every year on the 3rd weekend in September. \nRegister and find a cleanup near you here: http://cleancoasts.org/our-initiatives/big-beach-clean/
URL:https://cleancoasts.org/event/big-beach-clean-2/
LOCATION:National
CATEGORIES:Beach Cleans,Clean Coasts Events,Clean-ups,Cork Events,Donegal Events,Dublin Events,Galway Events,Kerry Events,Louth Events,Mayo Events,Meath Events,Sligo Events,Waterford Events,Wexford Events,Wicklow Events
ATTACH;FMTTYPE=image/png:https://cleancoasts.org/wp-content/uploads/2015/02/BBC-Logo-2016-WEBSITE.png
ORGANIZER;CN="Clean Coasts":MAILTO:cleancoasts@eeu.antaisce.org
END:VEVENT
BEGIN:VEVENT
DTSTART;VALUE=DATE:20170901
DTEND;VALUE=DATE:20170902
DTSTAMP:20260420T144155
CREATED:20170907T170054Z
LAST-MODIFIED:20170907T170054Z
UID:4785-1504224000-1504310399@cleancoasts.org
SUMMARY:Nominations for Ocean Hero Awards Now Open
DESCRIPTION: \n\n\nWe are asking the public to nominate volunteers who they believe have made an outstanding contribution to Ireland’s coastal environment. This year we are looking for entries to the following 6 categories: Group of the Year\, Individual of the Year\, School of the Year\, Business of the Year\, Idea of the Year and Beach Clean of the Year. \nWhat are the Ocean Hero Awards?\nThe Clean Coasts’ Ocean Hero Awards are about honouring the invaluable contribution Ireland’s coastal communities have made towards conserving our spectacular coastline. The awards\, originally called the ‘Clean Coasts’ Merit Awards’\, were conceived in 2006\, consisting then of only one category\, ‘The Clean Coasts’ Group of the Year’. Since then the Clean Coasts’ programme has grown to engage over 550 Clean Coasts groups\, becoming embedded in many coastal communities nationwide. In an effort to recognise this growth the number of Ocean Hero categories have expanded to include six categories. \nOcean Hero Award Nominations\nIf you would like to recognise an individual\, Clean Coasts group\, school\, business or beach clean that made a difference to our coast please fill in the SurveyMonkey form here: surveymonkey.com/r/Ocean-Heroes-2017. \nFor the ‘Idea of Year Award’ we are looking for volunteers who have raised the profile of coastal protection in their community through awareness raising events and interesting initiatives. \nThe nomination process only takes a few minutes and we would love to hear your voice. Nominations must be received by Friday October 20th for inclusion in the selection process. \nNominations are invited in the following categories: \n\nGroup of the Year\nIndividual of the Year\nSchool of the Year\nBusiness of the Year\nIdea of the Year\nBeach Clean of the Year
URL:https://cleancoasts.org/event/nominations-for-ocean-hero-awards-now-open/
LOCATION:National
CATEGORIES:Clare Events,Clean Coasts Events,Cork Events,Donegal Events,Dublin Events,Galway Events,Kerry Events,Louth Events,Mayo Events,Meath Events,Other,Sligo Events,Waterford Events,Wexford Events,Wicklow Events
ATTACH;FMTTYPE=image/png:https://cleancoasts.org/wp-content/uploads/2017/08/ocean-hero-2017-logo.png
ORGANIZER;CN="Clean Coasts":MAILTO:cleancoasts@eeu.antaisce.org
END:VEVENT
BEGIN:VEVENT
DTSTART;VALUE=DATE:20170702
DTEND;VALUE=DATE:20170703
DTSTAMP:20260420T144155
CREATED:20170629T100235Z
LAST-MODIFIED:20170629T100235Z
UID:4697-1498953600-1499039999@cleancoasts.org
SUMMARY:Marram Grass Planting Workshop - Inch\, Co. Kerry
DESCRIPTION:Marram Grass\, Ammophila arenaria\, is the major dune building plant in Ireland. This sand trapping grass can not only help dune systems maintain their positions but reduce blowouts and consolidate areas of loose sands. This practical training workshop will develop skills around; when and how to transplant\, sources of supply\, correct technique and spacing considerations.  \nThis workshop will take place at Inch Beach on Sunday 2nd July from \nPlease bring: \n\nAppropriate clothing for the weather/practical session and sturdy boots.\nA spade/trowel.\nA large bucket
URL:https://cleancoasts.org/event/marram-grass-planting-workshop-inch-co-kerry/
LOCATION:Inch Beach\, Inch Beach\, Inch Beach\, Co. Kerry\, Ireland
CATEGORIES:Clean Coasts Events,Dune Conservation Events,Kerry Events,Workshops
ATTACH;FMTTYPE=image/jpeg:https://cleancoasts.org/wp-content/uploads/2015/04/marram-grass1.jpg
ORGANIZER;CN="Clean Coasts Officer Susan Vickers":MAILTO:svickers@eeu.antaisce.org
END:VEVENT
BEGIN:VEVENT
DTSTART;TZID=UTC:20170611T140000
DTEND;TZID=UTC:20170611T150000
DTSTAMP:20260420T144155
CREATED:20170603T145717Z
LAST-MODIFIED:20170603T145717Z
UID:4611-1497189600-1497193200@cleancoasts.org
SUMMARY:Zumba on the Beach – Kerry
DESCRIPTION:As part of Coca-Cola Clean Coasts Week’s Mindfulness on the Beach\, join us on Fenit beach for a free zumba class on the beach at 2pm on 11th June. We will also take 2 minutes to give back to our coast with #2minutebeachclean. \nTo RSVP or for more information\, contact Susan at svickers@eeu.antaisce.org.
URL:https://cleancoasts.org/event/zumba-on-the-beach-kerry/
LOCATION:Fenit\, Fenit Island\, Co. Kerry\, Ireland
CATEGORIES:2minutebeachclean Events,Clean Coasts Events,Coca-Cola Clean Coasts Week,Kerry Events
ATTACH;FMTTYPE=image/jpeg:https://cleancoasts.org/wp-content/uploads/2017/04/ccccwk_zumba.jpg
ORGANIZER;CN="Clean Coasts Officer Susan Vickers":MAILTO:svickers@eeu.antaisce.org
END:VEVENT
BEGIN:VEVENT
DTSTART;VALUE=DATE:20170608
DTEND;VALUE=DATE:20170609
DTSTAMP:20260420T144155
CREATED:20170603T144153Z
LAST-MODIFIED:20170603T144153Z
UID:4593-1496880000-1496966399@cleancoasts.org
SUMMARY:Marram Grass Planting – Kerry
DESCRIPTION:Together with one of our local Clean Coasts groups\, we will be running a practical marram grass planting workshop at Ballinskelligs beach in Kerry on Thursday 8th June as part of World Oceans Day. It will give those attending a full understanding of how the process is done and also tackle dune erosion at the beach.
URL:https://cleancoasts.org/event/marram-grass-planting-kerry/
LOCATION:Ballinskelligs\, Ballinskelligs\, Ballinskelligs\, Co. Kerry\, Ireland
CATEGORIES:Coca-Cola Clean Coasts Week,Dune Conservation Events,Kerry Events
ATTACH;FMTTYPE=image/jpeg:https://cleancoasts.org/wp-content/uploads/2015/04/marram-grass1.jpg
ORGANIZER;CN="Clean Coasts Officer Susan Vickers":MAILTO:svickers@eeu.antaisce.org
END:VEVENT
BEGIN:VEVENT
DTSTART;VALUE=DATE:20170608
DTEND;VALUE=DATE:20170609
DTSTAMP:20260420T144155
CREATED:20170603T144007Z
LAST-MODIFIED:20170603T144007Z
UID:4591-1496880000-1496966399@cleancoasts.org
SUMMARY:13km Wild Atlantic Way Coastal Cleanup – Kerry
DESCRIPTION:To celebrate our coast for World Oceans Day\, Clean Coasts Officer for Kerry is teaming up with our group\, Ocean World Dingle  for one of Ireland’s biggest C0ca-Cola Clean Coasts Week beach cleans which will take place along the 13km Wild Atlantic Way Dingle Peninsula. Time and meeting point to be confirmed.Gloves\, bags and litter pickers will be provided. Please wear clothing suitable for the weather and sensible clothing. All welcome!
URL:https://cleancoasts.org/event/13km-wild-atlantic-way-coastal-cleanup-kerry/
LOCATION:Dingle\, Dingle\, Co. Kerry\, Ireland
CATEGORIES:Beach Cleans,Coca-Cola Clean Coasts Week,Kerry Events
ATTACH;FMTTYPE=image/jpeg:https://cleancoasts.org/wp-content/uploads/2017/04/oceansday_ccccwk.jpg
ORGANIZER;CN="Clean Coasts Officer Susan Vickers":MAILTO:svickers@eeu.antaisce.org
END:VEVENT
BEGIN:VEVENT
DTSTART;TZID=UTC:20170607T193000
DTEND;TZID=UTC:20170607T213000
DTSTAMP:20260420T144155
CREATED:20170603T143534Z
LAST-MODIFIED:20170603T143534Z
UID:4584-1496863800-1496871000@cleancoasts.org
SUMMARY:Panel Discussion and Screening – Cork
DESCRIPTION:A collaborative evening event between Clean Coasts & MaREI\, to celebrate Clean Coasts Week and the Cork Harbour Festival at 7:30pm at the Royal Cork Yacht Club\, Crosshaven to celebrate Clean Coasts Week and the Cork Harbour Festival. \nInspired by the communication methods of yore\, Clean Coasts is pleased to host a compelling panel to explore the issue of marine pollution and how Ireland can best position itself for the challenges of living sustainably. \nThe panel will consist of a variety of people involved with marine litter issues; from researchers\, to documentary makers to community influencers and people working on the ground to bring about and encourage positive behaviour change. \nThe panel will consider the current and projected issues of litter in Ireland and will discuss ways to bring about changes in how we are currently living. \nIrish Documentary maker Vincent Hyland will screen his new documentary “Plastics in Paradise” before the panel event. \nFollowing the panel discussions\, the audience will be asked to participate in a Cafe Style discussion event – where they will discuss some intriguing questions and problems facing communities in Ireland today.  This brain storming session will likely raise even more questions but hopefully some solutions may also be inspired!
URL:https://cleancoasts.org/event/panel-discussion-and-screening-cork/
LOCATION:Royal Cork Yacht Club\, Royal Cork Yacht Club\, Crosshaven\, Co. Cork\, Ireland
CATEGORIES:Coca-Cola Clean Coasts Week,Conference,Kerry Events,Talks,Workshops
ATTACH;FMTTYPE=image/jpeg:https://cleancoasts.org/wp-content/uploads/2017/04/panel_discussion.jpg
ORGANIZER;CN="Clean Coasts Officer Susan Vickers":MAILTO:svickers@eeu.antaisce.org
END:VEVENT
BEGIN:VEVENT
DTSTART;VALUE=DATE:20170605
DTEND;VALUE=DATE:20170606
DTSTAMP:20260420T144155
CREATED:20170603T142250Z
LAST-MODIFIED:20170603T142250Z
UID:4566-1496620800-1496707199@cleancoasts.org
SUMMARY:Drumming Circle on the Beach – Kerry
DESCRIPTION:The tradition of drumming and singing together goes back to the mists of the past and our homo ancestors. In the times of screens\, social media\, migration\, scattered communities\, the need for belonging to a group or a tribe calls us again.  Drum Circle fulfils that need instantly\, you will feel the power of community in action from the very first drum call. Drumming is fun\, reduces stress levels\, brings people together\, creates good memories\, and basically is a perfect tool to boost your positive mental health. A drum circle will take place on 2 beaches in the Republic of Ireland\, Mayo and Kerry\, and a beach in Northern Ireland\, and these activities will be followed by a quick beach clean. \nThere will be a drumming circle event at the Marina in Dingle on Monday 5th June.
URL:https://cleancoasts.org/event/drumming-circle-on-the-beach-kerry/
LOCATION:Dingle\, Dingle\, Co. Kerry\, Ireland
CATEGORIES:2minutebeachclean Events,Beach Cleans,Coca-Cola Clean Coasts Week,Kerry Events
ATTACH;FMTTYPE=image/jpeg:https://cleancoasts.org/wp-content/uploads/2017/04/drumming.jpg
ORGANIZER;CN="Clean Coasts Officer Susan Vickers":MAILTO:svickers@eeu.antaisce.org
END:VEVENT
BEGIN:VEVENT
DTSTART;VALUE=DATE:20170603
DTEND;VALUE=DATE:20170604
DTSTAMP:20260420T144155
CREATED:20170603T141935Z
LAST-MODIFIED:20170603T141935Z
UID:4563-1496448000-1496534399@cleancoasts.org
SUMMARY:Mindfulness on the Beach Day
DESCRIPTION:This day is to highlight the benefits of coast on your mindset and how spending time along the coastal region can have a positive impact on our state of mine. We will take this day to recharge\, gain energy from the sea and most of all emphasis the need to protect this region which is so beneficial to us.  All activities will end with a beach clean. \nYoga on the beach: \n\nDublin\nCork\nWaterford\nDonegal\nKerry\nGalway
URL:https://cleancoasts.org/event/mindfulness-on-the-beach-day/
LOCATION:National
CATEGORIES:Coca-Cola Clean Coasts Week,Cork Events,Donegal Events,Dublin Events,Galway Events,Kerry Events,Waterford Events
ATTACH;FMTTYPE=image/jpeg:https://cleancoasts.org/wp-content/uploads/2015/05/yogaccweek.jpg
ORGANIZER;CN="Clean Coasts":MAILTO:cleancoasts@eeu.antaisce.org
END:VEVENT
BEGIN:VEVENT
DTSTART;TZID=UTC:20170304T100000
DTEND;TZID=UTC:20170304T120000
DTSTAMP:20260420T144155
CREATED:20170202T153616Z
LAST-MODIFIED:20170202T153616Z
UID:4158-1488621600-1488628800@cleancoasts.org
SUMMARY:Clean Coasts Roadshow - Tralee
DESCRIPTION:The Clean Coasts Roadshow is a series of events for coastal communities which take place all around the coast of Ireland. Clean Coasts Officer for Kerry\, Susan\, will be holding a Roadshow stop at the Tralee Wetlands Centre from 10am to 12pm on 4th March.  \nFor more information or if you would like to attend\, you can email Susan.
URL:https://cleancoasts.org/event/clean-coasts-roadshow-tralee/
LOCATION:Tralee Wetlands Centre\, Ballyard Rd\, Ballyard\, Tralee\, Co. Kerry\, Ireland
CATEGORIES:Clean Coasts Events,Kerry Events,Roadshow Events
ATTACH;FMTTYPE=image/png:https://cleancoasts.org/wp-content/uploads/2015/02/roadshow_v2.png
ORGANIZER;CN="Clean Coasts Officer Susan Vickers":MAILTO:svickers@eeu.antaisce.org
END:VEVENT
BEGIN:VEVENT
DTSTART;TZID=UTC:20170216T130000
DTEND;TZID=UTC:20170216T140000
DTSTAMP:20260420T144155
CREATED:20170202T153236Z
LAST-MODIFIED:20170202T153236Z
UID:4155-1487250000-1487253600@cleancoasts.org
SUMMARY:Clean Coasts Roadshow and Volunteering Fair - Tralee IT
DESCRIPTION:The Clean Coasts Roadshow is a series of events for coastal communities which take place all around the coast of Ireland. Clean Coasts Officer for Kerry\, Susan\, will be holding a Roadshow stop on the North Campus at Tralee IT from 1pm to 2pm on 16th February as part of their Volunteering Fair.  \nFor more information or if you would like to attend\, you can email Susan.
URL:https://cleancoasts.org/event/clean-coasts-roadshow-and-volunteering-fair-tralee-it/
LOCATION:Tralee IT\, North Campus\, Tralee IT\, Co. Kerry\, Ireland
CATEGORIES:Clean Coasts Events,Kerry Events,Roadshow Events
ATTACH;FMTTYPE=image/png:https://cleancoasts.org/wp-content/uploads/2015/02/roadshow_v2.png
ORGANIZER;CN="Clean Coasts Officer Susan Vickers":MAILTO:svickers@eeu.antaisce.org
END:VEVENT
BEGIN:VEVENT
DTSTART;TZID=UTC:20160913T103000
DTEND;TZID=UTC:20160913T123000
DTSTAMP:20260420T144155
CREATED:20160926T111715Z
LAST-MODIFIED:20160926T111715Z
UID:3397-1473762600-1473769800@cleancoasts.org
SUMMARY:Woman 2000 Killorglin - Clean Coasts Talk
DESCRIPTION:Clean Coasts Officer for Kerry\, Susan\, will be giving a talk about Clean Coasts and Greening Communities at one of the Woman 2000 Killorglin’s weekly meetings. Womean 2000 Killorglin is a social group for women in the area of Killorglin\, Co Kerry. Meeting every Tuesday morning from 10:30am for 2 hours. Enquiries: woman2000@outlook.ie.
URL:https://cleancoasts.org/event/woman-2000-killorglin-clean-coasts-talk/
LOCATION:CYMS Hall\, Killorglin\, Co. Kerry\, Ireland
CATEGORIES:Kerry Events,Talks
ATTACH;FMTTYPE=image/jpeg:https://cleancoasts.org/wp-content/uploads/2016/09/Women-2000-Killorglin.jpg
ORGANIZER;CN="Clean Coasts Officer Susan Vickers":MAILTO:svickers@eeu.antaisce.org
END:VEVENT
BEGIN:VEVENT
DTSTART;TZID=UTC:20160513T111500
DTEND;TZID=UTC:20160513T123000
DTSTAMP:20260420T144155
CREATED:20160504T095358Z
LAST-MODIFIED:20160504T095358Z
UID:2557-1463138100-1463142600@cleancoasts.org
SUMMARY:Mindfulness Walk - Dingle
DESCRIPTION:Enjoy your beach\, Enjoy your beach clean. \nOur coastline has great benefit for our health and wellbeing and to celebrate this we are giving you the opportunity to join us for a mindfulness walk from the Coastgaurd Station to Dingle Lighthouse\, Co. Kerry at 11:15am. Please contact Susan to attend or for more information. \nClean Coasts will also team up with local fitness groups to organise beach cleans and encourage them to add beach cleans to their training session. Kite-surfing talks/workshops will be carried out in schools in Wexford. More events will be added to this day as planned.
URL:https://cleancoasts.org/event/mindfulness-walk-dingle/
LOCATION:Dingle\, Dingle\, Co. Kerry\, Ireland
CATEGORIES:Coca-Cola Clean Coasts Week,Kerry Events
ATTACH;FMTTYPE=image/jpeg:https://cleancoasts.org/wp-content/uploads/2016/05/Mindfulness-Walk-Poster-1-e1462355601772.jpg
ORGANIZER;CN="Clean Coasts Officer Susan Vickers":MAILTO:svickers@eeu.antaisce.org
END:VEVENT
BEGIN:VEVENT
DTSTART;TZID=UTC:20160420T190000
DTEND;TZID=UTC:20160420T210000
DTSTAMP:20260420T144155
CREATED:20160513T115456Z
LAST-MODIFIED:20160513T115456Z
UID:2681-1461178800-1461186000@cleancoasts.org
SUMMARY:Clean Coasts Roadshow - Fenit
DESCRIPTION:Clean Coasts are delighted to announce the Clean Coasts Roadshow which will be running at various locations around the coast of Ireland. It aims to bring together all those with an interest in protecting their local beaches\, seas and marine life. \nA Kerry Stop will take place on Wednesday 20th April at the Fenit Community Centre\, Fenit from 7pm to 9pm. \nA flavour of some of the speakers: \n\nWild Atlantic Way Officer\nKerry County Council\nSusan Vickers\, Clean Coasts Officer for Clare\nMarine/Coastal Ecology expert\nEU Directives and Legislation expert\nLocal Clean Coasts Volunteering Groups\n\nFenit Community Centre\, Fenit\, Co. Kerry On Wednesday 20th April at 7pm\nLight refreshments will be served.
URL:https://cleancoasts.org/event/clean-coasts-roadshow-fenit/
LOCATION:Fenit Community Centre\,\, Fenit\, Co. Kerry\, Ireland
CATEGORIES:Clean Coasts Events,Kerry Events,Roadshow Events
ATTACH;FMTTYPE=image/jpeg:https://cleancoasts.org/wp-content/uploads/2016/05/12998617_10156803192285716_8730165334615388626_n.jpg
ORGANIZER;CN="Clean Coasts Officer Susan Vickers":MAILTO:svickers@eeu.antaisce.org
END:VEVENT
BEGIN:VEVENT
DTSTART;TZID=UTC:20160206T113000
DTEND;TZID=UTC:20160206T133000
DTSTAMP:20260420T144155
CREATED:20160219T130200Z
LAST-MODIFIED:20160219T130200Z
UID:2254-1454758200-1454765400@cleancoasts.org
SUMMARY:Dingle Peninsula Storm Festival 2016
DESCRIPTION:Clean Coasts officer for Kerry\, Susan\, will be taking part in the ‘Tourism Challenges & Opportunities for Your Future On the Dingle Peninsula’ tourism seminar at this year’s Storm Festival in Dingle on Saturday 6th February from 11.30am in St. James’s Church\, Dingle. This will also feature Eoghan Corry (Editor\, Travel Extra\, Business Travel News Journalist of the Year) and Professor Enda McGovern (Associate Professor of Marketing at Sacred Heart University). They will be looking at: ‘Tourism and Sustainability: What the Future Might Look Like?”.
URL:https://cleancoasts.org/event/dingle-peninsula-storm-festival-2016/
LOCATION:Co. Kerry
CATEGORIES:Kerry Events
ATTACH;FMTTYPE=image/jpeg:https://cleancoasts.org/wp-content/uploads/2016/02/sue-storm-fest.jpg
END:VEVENT
END:VCALENDAR